BEGIN:VCALENDAR
PRODID:-//PUBBLE//agenda//NL
VERSION:2.0
METHOD:PUBLISH
BEGIN:VEVENT
DTSTART:20240212T173000Z
DTEND:20240212T193000Z
DTSTAMP:20260424T074732Z
UID:d409de0d-bcef-494b-890b-2c9d9f446d05
CREATED:20260424T074732Z
NAME:Muzieklezing: Klassieke Muziek in de de Reclame stadnijkerk.nl
X-WR-CALNAME:Muzieklezing: Klassieke Muziek in de de Reclame
X-ALT-DESC;FMTTYPE=text/html:<a href='/agenda/2024/2/12/muzieklezing-klassieke-muziek-in-de-de-reclame-973540'>/agenda/2024/2/12/muzieklezing-klassieke-muziek-in-de-de-reclame-973540</a> || <p>Je herkent het misschien niet altijd direct, maar ook in reclame wordt regelmatig gebruik gemaakt van klassieke werken. Ken je deze nog?</p><p>Verdi (Dr. Oetker pizza) - La donna è mobile uit Rigoletto</p><p>Laat de aria La donna è mobileaan een willekeurig persoon horen en de kans is groot dat die niet aanVerdi’s Rigoletto, maar aan pizza denkt! Het Duitse Dr. Oetker (uitgesproken als Ùt-ker) wilde met deze reclame een Italiaanse sfeer oproepen, en dat is ze goed gelukt. Toch heeft de galante en romantische heer in de commercial weinigte makenmet deze canzone (níet ‘calzone’!),waarin vooral de wispelturigheid van vrouwen bezongen wordt. In de context van deze commercial zorgt de muziek desondanks voor eensfeer van stijl en klasse. En voor een onuitwisbare herinnering.</p><p>Liszt (McDonalds) -&nbsp;Liebestraum ‘o lieb so zu lieben kannst’</p><p>Erg mooie piano muziek onder deze McDonald’s Big Mac commercial. We zien hoe het leven van een man aan zijn ogen voorbij flitst bij zijn bungeejump. Alle onvergetelijke momenten uit zijn leven blijken een ding gemeen te hebben.</p><p>Piet Philipse neemt ons mee door de reclames en de klassieke muziek. Je zal versteld staan hoeveel klassieke muziek je wel eens gehoord hebt</p>
DESCRIPTION:<a href='/agenda/2024/2/12/muzieklezing-klassieke-muziek-in-de-de-reclame-973540'>/agenda/2024/2/12/muzieklezing-klassieke-muziek-in-de-de-reclame-973540</a> || <p>Je herkent het misschien niet altijd direct, maar ook in reclame wordt regelmatig gebruik gemaakt van klassieke werken. Ken je deze nog?</p><p>Verdi (Dr. Oetker pizza) - La donna è mobile uit Rigoletto</p><p>Laat de aria La donna è mobileaan een willekeurig persoon horen en de kans is groot dat die niet aanVerdi’s Rigoletto, maar aan pizza denkt! Het Duitse Dr. Oetker (uitgesproken als Ùt-ker) wilde met deze reclame een Italiaanse sfeer oproepen, en dat is ze goed gelukt. Toch heeft de galante en romantische heer in de commercial weinigte makenmet deze canzone (níet ‘calzone’!),waarin vooral de wispelturigheid van vrouwen bezongen wordt. In de context van deze commercial zorgt de muziek desondanks voor eensfeer van stijl en klasse. En voor een onuitwisbare herinnering.</p><p>Liszt (McDonalds) -&nbsp;Liebestraum ‘o lieb so zu lieben kannst’</p><p>Erg mooie piano muziek onder deze McDonald’s Big Mac commercial. We zien hoe het leven van een man aan zijn ogen voorbij flitst bij zijn bungeejump. Alle onvergetelijke momenten uit zijn leven blijken een ding gemeen te hebben.</p><p>Piet Philipse neemt ons mee door de reclames en de klassieke muziek. Je zal versteld staan hoeveel klassieke muziek je wel eens gehoord hebt</p>
LAST-MODIFIED:20260424T074732Z
LOCATION: Bibliotheek Nijkerkerveen | Van Noortstraat 36 Nijkerkerveen
SEQUENCE:0
STATUS:CONFIRMED
SUMMARY:Muzieklezing: Klassieke Muziek in de de Reclame
TRANSP:OPAQUE
END:VEVENT
END:VCALENDAR
