BEGIN:VCALENDAR
PRODID:-//PUBBLE//agenda//NL
VERSION:2.0
METHOD:PUBLISH
BEGIN:VEVENT
DTSTART:20251214T123000Z
DTEND:20251214T141500Z
DTSTAMP:20260424T154454Z
UID:a0466974-2891-47d8-b06a-5d2e28ba7a7b
CREATED:20260424T154454Z
NAME:ZondagmiddagPodium met Zeemanskoor Nijkerks Welvaren stadnijkerk.nl
X-WR-CALNAME:ZondagmiddagPodium met Zeemanskoor Nijkerks Welvaren
X-ALT-DESC;FMTTYPE=text/html:<a href='/agenda/2025/12/14/zondagmiddagpodium-met-zeemanskoor-nijkerks-welvaren-1232292'>/agenda/2025/12/14/zondagmiddagpodium-met-zeemanskoor-nijkerks-welvaren-1232292</a> || <p>Op zondag 14 december treedt Zeemanskoor Nijkerks Welvaren op in de bibliotheek</p><p>Laat je meenemen naar een warme zondagmiddag vol samenzang, zeemansliedjes en kerstvreugde met Zeemanskoor Nijkerks Welvaren. De diepe klanken en melodieën van dit koor klinken als golven op zee — vertrouwd, krachtig en vol emotie.&nbsp;</p><p>In deze decembermaand mag de kerstsfeer natuurlijk niet ontbreken. Misschien ligt de iconische zeemanspet even stil — en schittert er in plaats daarvan een kerstmuts op het hoofd! Verwacht sfeervolle uitvoeringen waarin traditie en gezelligheid samensmelten.</p><p>Kom luisteren, meezingen en genieten van (zee)liederen met een vleugje kerst. Een perfecte manier om in december in de stemming te komen!</p><p>Aanvang 14.30 uur, toegang is gratis.</p>
DESCRIPTION:<a href='/agenda/2025/12/14/zondagmiddagpodium-met-zeemanskoor-nijkerks-welvaren-1232292'>/agenda/2025/12/14/zondagmiddagpodium-met-zeemanskoor-nijkerks-welvaren-1232292</a> || <p>Op zondag 14 december treedt Zeemanskoor Nijkerks Welvaren op in de bibliotheek</p><p>Laat je meenemen naar een warme zondagmiddag vol samenzang, zeemansliedjes en kerstvreugde met Zeemanskoor Nijkerks Welvaren. De diepe klanken en melodieën van dit koor klinken als golven op zee — vertrouwd, krachtig en vol emotie.&nbsp;</p><p>In deze decembermaand mag de kerstsfeer natuurlijk niet ontbreken. Misschien ligt de iconische zeemanspet even stil — en schittert er in plaats daarvan een kerstmuts op het hoofd! Verwacht sfeervolle uitvoeringen waarin traditie en gezelligheid samensmelten.</p><p>Kom luisteren, meezingen en genieten van (zee)liederen met een vleugje kerst. Een perfecte manier om in december in de stemming te komen!</p><p>Aanvang 14.30 uur, toegang is gratis.</p>
LAST-MODIFIED:20260424T154454Z
LOCATION: Bibliotheek Nijkerk | Frieswijkstraat 99 Nijkerk
SEQUENCE:0
STATUS:CONFIRMED
SUMMARY:ZondagmiddagPodium met Zeemanskoor Nijkerks Welvaren
TRANSP:OPAQUE
END:VEVENT
END:VCALENDAR
