BEGIN:VCALENDAR
PRODID:-//PUBBLE//agenda//NL
VERSION:2.0
METHOD:PUBLISH
BEGIN:VEVENT
DTSTART:20250308T140000Z
DTEND:20250308T151500Z
DTSTAMP:20260420T022748Z
UID:620ed432-ae3a-4fc7-8154-b0c2d5d3ed88
CREATED:20260420T022748Z
NAME:Gert van Hoef in de zaterdagmiddagmuziek De Fontein stadnijkerk.nl
X-WR-CALNAME:Gert van Hoef in de zaterdagmiddagmuziek De Fontein
X-ALT-DESC;FMTTYPE=text/html:<a href='/agenda/2025/3/8/gert-van-hoef-in-de-zaterdagmiddagmuziek-de-fontein-1142314'>/agenda/2025/3/8/gert-van-hoef-in-de-zaterdagmiddagmuziek-de-fontein-1142314</a> || <p>Zaterdagmiddag 8 maart komt Gert van Hoef ons het orgel en de vleugel in al hun facetten laten horen. Hij zal dit doen door een zeer breed muziek genre met verschillende lied bewerkingen en de Finale uit de 1e symfonie van Vierne. Hij zal afsluiten met een improvisatie over ‘Highland Cathedral’.</p><p>Volgens Gert van Hoef zal Highland Cathedral een zeer spetterende finale worden.</p><p>Het concert begint om 16.00 uur. De kerk aan de ds Kuypersstraat 2 in Nijkerk is open vanaf 15.30 uur. De toegangsprijs is € 10,00 inclusief een consumptie. Voor kinderen tot en met 15 jaar is de toegang gratis. Na afloop van het concert is er koffie, thee of frisdrank.</p>
DESCRIPTION:<a href='/agenda/2025/3/8/gert-van-hoef-in-de-zaterdagmiddagmuziek-de-fontein-1142314'>/agenda/2025/3/8/gert-van-hoef-in-de-zaterdagmiddagmuziek-de-fontein-1142314</a> || <p>Zaterdagmiddag 8 maart komt Gert van Hoef ons het orgel en de vleugel in al hun facetten laten horen. Hij zal dit doen door een zeer breed muziek genre met verschillende lied bewerkingen en de Finale uit de 1e symfonie van Vierne. Hij zal afsluiten met een improvisatie over ‘Highland Cathedral’.</p><p>Volgens Gert van Hoef zal Highland Cathedral een zeer spetterende finale worden.</p><p>Het concert begint om 16.00 uur. De kerk aan de ds Kuypersstraat 2 in Nijkerk is open vanaf 15.30 uur. De toegangsprijs is € 10,00 inclusief een consumptie. Voor kinderen tot en met 15 jaar is de toegang gratis. Na afloop van het concert is er koffie, thee of frisdrank.</p>
LAST-MODIFIED:20260420T022748Z
LOCATION: De Fontein | ds. Kuypersstraat 2 Nijkerk
SEQUENCE:0
STATUS:CONFIRMED
SUMMARY:Gert van Hoef in de zaterdagmiddagmuziek De Fontein
TRANSP:OPAQUE
END:VEVENT
END:VCALENDAR
